Workbook
Name A: #REF!
Name A: #REF!
Name A: #REF!
Name A: #REF!
Name aa: #REF!
Name aa: #REF!
Name aaa: #REF!
Name aaa: #REF!
Name aaaa: #REF!
Name aaaa: #REF!
Name aaaaa: #REF!
Name aaaaa: #REF!
Name sssss: #REF!
Name sssss: #REF!
Name 開始・終了月: #REF!
Name 開始・終了月: #REF!
Name 開始・終了月: #REF!
Name 国公立設置形態: #REF!
Name 国公立設置形態: #REF!
Name 国公立設置形態: #REF!
Name 国地域: #REF!
Name 国地域: #REF!
Name 国地域: #REF!
Name 支給対象月数: #REF!
Name 支給対象月数: #REF!
Name 支給対象月数: #REF!
Name 申請書・データ提出日: #REF!
Name 申請書・データ提出日: #REF!
Name 申請書・データ提出日: #REF!
Name 大学コード: #REF!
Name 大学コード: #REF!
Name 大学コード: #REF!
Name 有無: #REF!
Name 有無: #REF!
Name 有無: #REF!

Sheet Check List
H1: Ver.2.0
B2: List of Application Materials
B3: Research Exchange Program(LESS THAN 90 DAYS)
B4: at Shibaura Institute of Technology 2018/2019
B6: # | D6: Material need to be submitted | F6: File Name | G6: Type of submission file
B7: 01 | C7: □ | D7: Prescribed Form1-1 | E7: Application Form *If you are interested in Architecture field, please fill out the Form 1-2 instead. | F7: =B7&"-REP-Form1-UnivName-ApplicantName" -> 01-REP-Form1-UnivName-ApplicantName | G7: Excel
D8: Prescribed Form1-2 | E8: Application Form(applicant who is interested in Architecture field)
D9: Form1-3 | E9: SIT OFFICE USE ONLY Note: Don't delete Form1-2 and submit this sheet in the same file with Form1-1.
B10: 02 | C10: □ | D10: Prescribed Form2 | E10: Pledge | F10: =B10&"-REP-Pledge-UnivName-ApplicantName" -> 02-REP-Pledge-UnivName-ApplicantName | G10: PDF (Scanned Data with signature)
B11: 03 | C11: □ | E11: Your portrait photo as jpeg with white background | F11: =B11&"-REP-Photo-UnivName-ApplicantName" -> 03-REP-Photo-UnivName-ApplicantName | G11: jpeg
B12: 04 | C12: □ | D12: - | E12: A letter of nomination from the international office at your university | F12: =B12&"-REP-Nomination-UnivName-ApplicantName" -> 04-REP-Nomination-UnivName-ApplicantName | G12: PDF
B13: 05 | C13: □ | D13: - | E13: A letter of recommendation from the academic advisor at your university | F13: =B13&"-REP-Recommendation-UnivName-ApplicantName" -> 05-REP-Recommendation-UnivName-ApplicantName | G13: PDF
B14: 06 | C14: □ | D14: - | E14: A Research Plan (1-2 pages which describes the intended research in detail) | F14: =B14&"-REP-ResearchPlan-UnivName-ApplicantName" -> 06-REP-ResearchPlan-UnivName-ApplicantName | G14: PDF
B15: 07 | C15: □ | D15: - | E15: A general CV (including academic and work experience if any) | F15: =B15&"-REP-CV-UnivName-ApplicantName" -> 07-REP-CV-UnivName-ApplicantName | G15: PDF
B16: 08 | C16: □ | D16: - | E16: An official transcript of the applicant's academic record in English with its grading system (at least last 2 years) | F16: =B16&"-REP-Transcript-UnivName-ApplicantName" -> 08-REP-Transcript-UnivName-ApplicantName | G16: PDF
B17: 09 | C17: □ | D17: - | E17: Copy of applicants Passport (Photo and signature should be on the page) | F17: =B17&"-REP-Passport-UnivName-ApplicantName" -> 09-REP-Passport-UnivName-ApplicantName | G17: PDF
B18: 10 | C18: □ | D18: - | E18: An official test result of TOEFL, TOEIC, IELTS or equivalent document the Letter of recommendation from a university that compensates applicant’s English skills within the last 24 months. | F18: =B18&"-REP-Eng-UnivName-ApplicantName" -> 10-REP-Eng-UnivName-ApplicantName | G18: PDF
B19: 11 | C19: □ | D19: Prescribed Form3 | E19: Medical checkup Form －submi within 3 months before arrival to Japan | F19: =B19&"-REP-Health-UnivName-ApplicantName" -> 11-REP-Health-UnivName-ApplicantName | G19: PDF (Scanned Data with signature)
B20: - | C20: □ | D20: - | E20: Flight information | F20: - | G20: Plase answer in following Google Form
G21: https://docs.google.com/forms/d/1rOP0u8BKn8mkMNIGs7FxqZBEqYftpnRzFsMHHLs5VjQ/edit?usp=sharing
B22: 12 | C22: □ | D22: if any | E22: Copy of Certificate of Travel Insurance Note : All international students who are going to stay in Japan for more than 90 days are mandatory to enroll in the National Health Insurance system (Students with a short-stay visa cannot enroll in the system) in Japan and a travel insurance is optional in this case. Those who enroll the insurance system will pay 30 percent of the medical expenses at a clinic or hospital for any medical and dental treatment under the system. | F22: =B22&"-REP-TravelInsurance-UnivName-ApplicantName" -> 12-REP-TravelInsurance-UnivName-ApplicantName | G22: PDF
B24: All of the following documents should be submitted ONLY through the international office at your university to "global-admission@ow.shibaura-it.ac.jp" in English by the deadline. Note: - Submit all documents with it's file name and type above. - Form1 and 3: Fill it out and send as Excel file - Form2 and 4: Print and fill out the forms, then send as scanned file - #12 is are supposed to be submitted after a letter of acceptance is delivered to your university. - As for the flight information, please answer from the following URL.(https://docs.google.com/forms/d/1rOP0u8BKn8mkMNIGs7FxqZBEqYftpnRzFsMHHLs5VjQ/edit?usp=sharing)

Sheet Form1-1
C1: SHIBAURA INSTITUTE OF TECHNOLOGY | I1: FORM1
C2: Application Form for Research Exchange Program 2018
C4: INSTRUCTIONS
C5: ●The application form should be typewritten except applicant's signature.
C6: ●Numbers should be in Arabic figures.
C7: ●Proper nouns should be written in full, and not be abbreviated.
L8: Do not delete these columns.
C9: 1. Full Name *please provide as shown in the passport 〔in Roman block capitals〕 | L9: Month | M9: Day | N9: Year | O9: Year | P9: Please choose one | Q9: FirstName | R9: LastName | S9: =C12 -> 0 | T9: =C14 -> 2. Nationality | U9: =C15 -> 3. Gender | V9: =C16 -> 4. Date of Birth (MM/DD/YYYY) | W9: =E17 -> Zip cord: | X9: =G17 -> Address: | Y9: =C18 -> 6. Email Address | Z9: =E19 -> Countory code: | AA9: =G19 -> Tel: | AB9: =C22 -> 0 | AC9: =C23 -> 0 | AD9: =C24 -> 0 | AE9: =C27 -> 0 | AF9: =C28 -> 0 | AG9: =C29 -> 0 | AH9: =C32 -> 0 | AI9: =C33 -> 0 | AJ9: =E35 -> Research Theme you would like to work at SIT *more than 50 words | AK9: 1) | AL9: 2) | AM9: 3) | AN9: =F43 -> Prof Name | AO9: =F44 -> The reason why you choose the professor *more than 50 words | AP9: =F45 -> Prof Name | AQ9: =F46 -> The reason why you choose the professor *more than 50 words | AR9: =F47 -> Prof Name | AS9: =F48 -> The reason why you choose the professor *more than 50 words | AT9: =C53 -> Self | AU9: =C55 -> Support from family and relatives | AV9: =C56 -> Relationship with the applicant | AW9: =C58 -> Scholarship(If any) | AX9: =C59 -> Organization which provide the scholarship | AY9: =C61 -> Others | AZ9: =C62 -> Source of the fund | BA9: =E65 -> Please indicate if you are planning to apply for SIT scholarship? | BB9: =E66 -> If "Yes", would you still intend to come to SIT in case you are not the successful candidate? Note : This answer will not influence on the screening result. | BC9: =E69 -> TOEIC | BD9: =H68 -> Acquisition date | BE9: =E70 -> TOEFL *Choose the type of tests | BF9: =G68 -> Score | BG9: =H68 -> Acquisition date | BH9: =E71 -> IELTS | BI9: =H68 -> Acquisition date | BJ9: =E72 -> Others | BK9: =G68 -> Score | BL9: =H68 -> Acquisition date | BM9: =E73 -> English is my 1st language | BN9: =C83 -> 17. NOTE(If any)
D10: First name | L10: 1 | M10: 1 | N10: 1976 | O10: 2017 | P10: YES | Q10: =E10 -> 0 | R10: =E11 -> 0 | S10: =E12 -> 0 | T10: =E14 -> 0 | U10: =E15 -> 0 | V10: =G16&E16&F16 -> YearMonthDay | W10: =F17 -> 0 | X10: =H17 -> 0 | Y10: =E18&F18&G18 -> @ | Z10: =F19 -> 0 | AA10: =H19 -> 0 | AB10: =E22 -> 0 | AC10: =G23&E23&F23 | AD10: =G24&E24&F24 | AE10: =E27 -> 0 | AF10: =E28 -> 0 | AG10: =E29&H29 -> Please choose onePlease choose one | AH10: =H32&F32&G32 -> YearMonthDay | AI10: =H33&F33&G33 -> YearMonthDay | AJ10: =G35 -> 0 | AK10: =G37 -> 1) | AL10: =G38 -> 2) | AM10: =G41 -> 5) | AN10: =H43 -> 0 | AO10: =H44 -> 0 | AP10: =H45 -> 0 | AQ10: =H46 -> 0 | AR10: =H47 -> 0 | AS10: =H48 -> 0 | AT10: =F53 -> 0 | AU10: =F55 -> 0 | AV10: =E56 -> 0 | AW10: =F58 -> 0 | AX10: =E59 -> 0 | AY10: =F61 -> 0 | AZ10: =E62 -> 0 | BA10: =I65 -> Please choose one | BB10: =I66 -> Please choose one | BC10: =G69 -> 100 | BD10: =H69 -> MM/DD/YYYY | BE10: =F70 -> - | BF10: =G70 -> 0 | BG10: =H70 -> MM/DD/YYYY | BH10: =G71 -> 0 | BI10: =H71 -> MM/DD/YYYY | BJ10: =F72 -> - | BK10: =G72 -> 0 | BL10: =H72 -> MM/DD/YYYY | BM10: =G73 -> 0 | BN10: =E83 -> 0
D11: Last name | L11: 2 | M11: 2 | N11: 1977 | O11: 2018 | P11: NO
D12: Middle name | L12: 3 | M12: 3 | N12: 1978
L13: 4 | M13: 4 | N13: 1979
C14: 2. Nationality | L14: 5 | M14: 5 | N14: 1980
C15: 3. Gender | L15: 6 | M15: 6 | N15: 1981
C16: 4. Date of Birth (MM/DD/YYYY) | E16: Month | F16: Day | G16: Year | L16: 7 | M16: 7 | N16: 1982
C17: 5. Current Home Address | E17: Zip cord: | G17: Address: | L17: 8 | M17: 8 | N17: 1983
C18: 6. Email Address | F18: @ | L18: 9 | M18: 9 | N18: 1984
C19: 7. Phone Number | E19: Countory code: | G19: Tel: | L19: 10 | M19: 10 | N19: 1985
L20: 11 | M20: 11 | N20: 1986
C21: 8. Passport Information | L21: 12 | M21: 12 | N21: 1987
D22: Number | M22: 13 | N22: 1988
D23: Date of Issue (MM/DD/YYYY) | M23: 14 | N23: 1989
D24: Date of Expiry (MM/DD/YYYY) | M24: 15 | N24: 1990
M25: 16 | N25: 1991
C26: 9. Name of University and Department *please provide your home university. | M26: 17 | N26: 1992
D27: University | M27: 18 | N27: 1993
D28: Department/Major | M28: 19 | N28: 1994
D29: Present Status (Ex, 4th year of Bachelor) | E29: Please choose one | G29: School Year | H29: Please choose one | M29: 20 | N29: 1995
M30: 21 | N30: 1996
C31: 10. Prospective Duration for Student Exchange | M31: 22 | N31: 1997
D32: FROM | E32: MM/DD/YYYY | F32: Month | G32: Day | H32: Year | M32: 23 | N32: 1998
D33: TO | E33: MM/DD/YYYY | F33: Month | G33: Day | H33: Year | M33: 24 | N33: 1999
M34: 25 | N34: 2000
C35: 11. Laboratory Selection Choose 3 labs from the following URL | E35: Research Theme you would like to work at SIT *more than 50 words | M35: 26 | N35: 2001
C36: https://shibaura.pure.elsevier.com/ | M36: 27 | N36: 2002
C37: Note: An appropriate lab would be chosen for you based on your request; however, it might be different from your wish. | E37: Research topics of interest Please rate how much you are into the topic with the number. 0 to 5 and 0 is none and 5 is very much. ex.Mechatronics/Electronics/Industrial Design/etc. | G37: 1) | I37: 0 | M37: 28 | N37: 2003
G38: 2) | I38: 0 | M38: 29 | N38: 2004
G39: 3) | I39: 0 | M39: 30 | N39: 2005
G40: 4) | I40: 0 | M40: 31 | N40: 2006
G41: 5) | I41: 0 | N41: 2007
...

Sheet Form1-2
C1: SHIBAURA INSTITUTE OF TECHNOLOGY | I1: FORM1
C2: Application Form (Architecture) for Research Exchange Program 2018
A4: THIS FORM IS ONLY FOR THE STUDENT WHO WISH TO RESEARCH IN ARCHITECTURE FIELD. WHO IS NOT SUBJECTED, FILL OUT THE FORM1-1
C6: INSTRUCTIONS
C7: ●The application form should be typewritten except applicant's signature.
C8: ●Numbers should be in Arabic figures.
C9: ●Proper nouns should be written in full, and not be abbreviated.
L10: Do not delete these columns.
C11: 1. Full Name *please provide as shown in the passport 〔in Roman block capitals〕 | L11: Month | M11: Day | N11: Year | O11: Year | P11: Please choose one | Q11: FirstName | R11: LastName | S11: =C14 -> 0 | T11: =C16 -> 2. Nationality | U11: =C17 -> 3. Gender | V11: =C18 -> 4. Date of Birth (MM/DD/YYYY) | W11: =E19 -> Zip cord: | X11: =G19 -> Address: | Y11: =C20 -> 6. Email Address | Z11: =E21 -> Countory code: | AA11: =G21 -> Tel: | AB11: =C24 -> 0 | AC11: =C25 -> 0 | AD11: =C26 -> 0 | AE11: =C29 -> 0 | AF11: =C30 -> 0 | AG11: =C31 -> 0 | AH11: =C34 -> 0 | AI11: =C35 -> 0 | AJ11: =E37 -> Research Theme you would like to work at SIT *more than 50 words | AK11: 1) | AL11: 2) | AM11: 3) | AN11: =F46 -> Prof Name | AO11: =F47 -> The reason why you choose the professor *more than 50 words | AP11: =F48 -> Prof Name | AQ11: =F49 -> The reason why you choose the professor *more than 50 words | AR11: =F50 -> Prof Name | AS11: =F51 -> The reason why you choose the professor *more than 50 words | AT11: =C56 -> Self | AU11: =C58 -> Support from family and relatives | AV11: =C59 -> Relationship with the applicant | AW11: =C61 -> Scholarship(If any) | AX11: =C62 -> Organization which provide the scholarship | AY11: =C64 -> Others | AZ11: =C65 -> Source of the fund | BA11: =E68 -> Please indicate if you are planning to apply for SIT scholarship? | BB11: =E69 -> If "Yes", would you still intend to come to SIT in case you are not the successful candidate? Note : This answer will not influence on the screening result. | BC11: =E72 -> TOEIC | BD11: =H71 -> Acquisition date | BE11: =E73 -> TOEFL *Choose the type of tests | BF11: =G71 -> Score | BG11: =H71 -> Acquisition date | BH11: =E74 -> IELTS | BI11: =H71 -> Acquisition date | BJ11: =E75 -> Others | BK11: =G71 -> Score | BL11: =H71 -> Acquisition date | BM11: =E76 -> English is my 1st language | BN11: =C85 -> 0
D12: First name | L12: 1 | M12: 1 | N12: 1976 | O12: 2018 | P12: YES | Q12: =#REF! -> #REF! | R12: =#REF! -> #REF! | S12: =#REF! -> #REF! | T12: =#REF! -> #REF! | U12: =#REF! -> #REF! | V12: =#REF!&#REF!&#REF! -> #REF! | W12: =#REF! -> #REF! | X12: =#REF! -> #REF! | Y12: =#REF!&F20&#REF! -> #REF! | Z12: =#REF! -> #REF! | AA12: =#REF! -> #REF! | AB12: =#REF! -> #REF! | AC12: =#REF!&#REF!&#REF! -> #REF! | AD12: =#REF!&#REF!&#REF! -> #REF! | AE12: =#REF! -> #REF! | AF12: =#REF! -> #REF! | AG12: =#REF!&#REF! -> #REF! | AH12: =#REF!&#REF!&#REF! -> #REF! | AI12: =#REF!&#REF!&#REF! -> #REF! | AJ12: =#REF! -> #REF! | AK12: =#REF! -> #REF! | AL12: =#REF! -> #REF! | AM12: =#REF! -> #REF! | AN12: =#REF! -> #REF! | AO12: =#REF! -> #REF! | AP12: =#REF! -> #REF! | AQ12: =#REF! -> #REF! | ... BN12: =#REF! -> #REF!
D13: Last name | L13: 2 | M13: 2 | N13: 1977 | O13: 2019 | P13: NO
D14: Middle name | L14: 3 | M14: 3 | N14: 1978 | O14: Please choose one topic which is the most suitable
L15: 4 | M15: 4 | N15: 1979 | O15: 1) Architectural design | P15: Prof. Hidetsugu Horikoshi, Prof. Shinobu Akahori, Prof. Taira Nishizawa, Prof. Taizo Taniguchi, Prof. Osami Gota, Prof. Masahiro Harada,
C16: 2. Nationality | L16: 5 | M16: 5 | N16: 1980 | O16: 2) Architectural plan | P16: Prof. Kazunobu Minami, Prof. Ikuro Shimizu,
C17: 3. Gender | L17: 6 | M17: 6 | N17: 1981 | O17: 3) Urban design | P17: Prof. Hidetoshi Maeda, Prof. Shimura
C18: 4. Date of Birth (MM/DD/YYYY) | E18: Month | F18: Day | G18: Year | L18: 7 | M18: 7 | N18: 1982 | O18: 4) Urban planning | P18: Prof. Shinozaki, Prof. Hitoshi Kuwata, Prof. Hirosuke Sato
C19: 5. Current Home Address | E19: Zip cord: | G19: Address: | L19: 8 | M19: 8 | N19: 1983 | O19: 5) Architectural history | P19: Prof. Yoko Ito, Prof. Akira Fujisawa
C20: 6. Email Address | F20: @ | L20: 9 | M20: 9 | N20: 1984 | O20: 6) Building production | P20: Prof. Hirotake Kanisawa, Prof. Kazuya Shide
C21: 7. Phone Number | E21: Countory code: | G21: Tel: | L21: 10 | M21: 10 | N21: 1985 | O21: 7) Building materials | P21: Prof. Kenji Motohashi, Prof. Hitoshi Hamasaki
L22: 11 | M22: 11 | N22: 1986 | O22: 8) Building environment improvement | P22: Prof. Hiroshi Furuya, Prof. Kimiya Murakami, Prof. Takashi Akimoto, Prof. Naoya Nishimura
C23: 8. Passport Information | L23: 12 | M23: 12 | N23: 1987 | O23: 9) Project design | P23: Prof. Satoru Yamashiro, Prof. Michiko Okano, Prof. Keita Aoshima
D24: Number | M24: 13 | N24: 1988 | O24: 10) Building structure | P24: Prof. Katsuichiro Hijikata, Prof. Fumitoshi Kumazawa, Prof. Kenji Kabayama, Prof. Shinji Kishida, Prof. Yuki Ozawa
D25: Date of Issue (MM/DD/YYYY) | E25: Month | F25: Day | G25: Year | M25: 14 | N25: 1989
D26: Date of Expiry (MM/DD/YYYY) | E26: Month | F26: Day | G26: Year | M26: 15 | N26: 1990
M27: 16 | N27: 1991
C28: 9. Name of University and Department *please provide your home university. | M28: 17 | N28: 1992
D29: University | M29: 18 | N29: 1993
D30: Department/Major | M30: 19 | N30: 1994
D31: Present Status (Ex, 4th year of Bachelor) | E31: Please choose one | G31: School Year | H31: Please choose one | M31: 20 | N31: 1995
M32: 21 | N32: 1996
C33: 10. Prospective Duration for Student Exchange | M33: 22 | N33: 1997
D34: FROM | E34: MM/DD/YYYY | F34: Month | G34: Day | H34: Year | M34: 23 | N34: 1998
D35: TO | E35: MM/DD/YYYY | F35: Month | G35: Day | H35: Year | M35: 24 | N35: 1999
M36: 25 | N36: 2000
C37: 11. Laboratory Selection | E37: Research Theme you would like to work at SIT *more than 50 words | M37: 26 | N37: 2001
C38: Write a research theme you would like to work on and 3 keywords of interest representing essencees of your research theme and topics. | M38: 27 | N38: 2002
E39: Research keywords of interest Write 3 topics of interest and rate how much you are into the topic with the number. 0 to 5 and 0 is none and 5 is very much. | G39: 1) | I39: 0 | M39: 28 | N39: 2003
G40: 2) | I40: 0 | M40: 29 | N40: 2004
C41: Explore professor profiles with this URL below. | G41: 3) | I41: 0 | M41: 30 | N41: 2005
C42: https://shibaura.pure.elsevier.com/ | N42: 2008
...

Sheet Form1-3 SIT OFFICE USE ONLY
B1: SHIBAURA INSTITUTE OF TECHNOLOGY
B2: Research Exchange Student Profile
D4: 学生氏名 | H4: 性別 | K4: 英語能力 | M4: Score | N4: Acquisition date
D5: ='Form1-1'!E10&" "&'Form1-1'!E12&" "&'Form1-1'!E11 | H5: ='Form1-1'!E15 -> 0 | K5: TOEIC | M5: ='Form1-1'!G69 -> 100 | N5: ='Form1-1'!H69 -> MM/DD/YYYY
D6: 出身大学（専攻/学年） | H6: 生年月日 (MM/DD/YYYY) | K6: TOEFL | L6: ='Form1-1'!F70 -> - | M6: ='Form1-1'!G70 -> 0 | N6: ='Form1-1'!H70 -> MM/DD/YYYY
D7: ='Form1-1'!E27 -> 0 | H7: ='Form1-1'!E16&"/"&'Form1-1'!F16&"/"&'Form1-1'!G16 -> Month/Day/Year | K7: IELTS | M7: ='Form1-1'!G71 -> 0 | N7: ='Form1-1'!H71 -> MM/DD/YYYY
D8: ='Form1-1'!E28 -> 0 | H8: Email | K8: Others | L8: ='Form1-1'!F72 -> - | M8: ='Form1-1'!G72 -> 0 | N8: ='Form1-1'!H72 -> MM/DD/YYYY | R8: ='Form1-1'!H32&"/"&'Form1-1'!F32&"/"&'Form1-1'!G32 -> Year/Month/Day | S8: =R8-R9 -> #VALUE!
D9: ='Form1-1'!E29&'Form1-1'!H29 -> Please choose onePlease choose one | H9: ='Form1-1'!E18&'Form1-1'!F18&'Form1-1'!G18 -> @ | K9: English is my 1st language | M9: ='Form1-1'!G73 -> 0 | R9: ='Form1-1'!H33&"/"&'Form1-1'!F33&"/"&'Form1-1'!G33 -> Year/Month/Day
D11: プログラム滞在予定期間
D12: FROM | E12: =R8 -> Year/Month/Day | R12: Days | S12: Absense
D13: TO | E13: =R9 -> Year/Month/Day | R13: =E13-E12 -> #VALUE! | S13: =365-R13 -> #VALUE!
B15: 研究トピック （興味があるトピック） | D15: ='Form1-1'!G37 -> 1) | R15: =D15 -> 1) | S15: ='Form1-1'!I37 -> 0
D16: ='Form1-1'!G38 -> 2) | R16: =D16 -> 2) | S16: ='Form1-1'!I38 -> 0
D17: ='Form1-1'!G39 -> 3) | R17: =D17 -> 3) | S17: ='Form1-1'!I39 -> 0
D18: ='Form1-1'!G40 -> 4) | R18: =D18 -> 4) | S18: ='Form1-1'!I40 -> 0
D19: ='Form1-1'!G41 -> 5) | R19: =D19 -> 5) | S19: ='Form1-1'!I41 -> 0
B20: 本学で実施したい活動/研究テーマなど | D20: ='Form1-1'!G35 -> 0
B22: 第一志望 | D22: 氏名 | E22: ='Form1-1'!H43 -> 0
D23: 理由 | E23: ='Form1-1'!H44 -> 0
B24: 第二志望 | D24: 氏名 | E24: ='Form1-1'!H45 -> 0
D25: 理由 | E25: ='Form1-1'!H46 -> 0
B26: 第3志望 | D26: 氏名 | E26: ='Form1-1'!H47 -> 0
D27: 理由 | E27: ='Form1-1'!H48 -> 0
B29: SHIBAURA INSTITUTE OF TECHNOLOGY
B30: Research Exchange Student Profile (Architecture)
D32: 学生氏名 | H32: 性別 | K32: 英語能力 | M32: Score | N32: Acquisition date
D33: ='Form1-2'!E12&" "&'Form1-2'!E13&" "&'Form1-2'!E14 | H33: ='Form1-2'!E17 -> 0 | K33: TOEIC | M33: ='Form1-2'!G72 -> 0 | N33: ='Form1-2'!H72 -> MM/DD/YYYY
D34: 出身大学（専攻/学年） | H34: 生年月日 (MM/DD/YYYY) | K34: TOEFL | L34: ='Form1-2'!F73 -> - | M34: ='Form1-2'!G73 -> 0 | N34: ='Form1-2'!H73 -> MM/DD/YYYY
D35: ='Form1-2'!E29 -> 0 | H35: ='Form1-2'!E18&"/"&'Form1-2'!F18&"/"&'Form1-2'!G18 -> Month/Day/Year | K35: IELTS | M35: ='Form1-2'!G74 -> 0 | N35: ='Form1-2'!H74 -> MM/DD/YYYY
D36: ='Form1-2'!E30 -> 0 | H36: Email | K36: Others | L36: ='Form1-2'!F75 -> - | M36: ='Form1-2'!G75 -> 0 | N36: ='Form1-2'!H75 -> MM/DD/YYYY | R36: ='Form1-2'!H34&"/"&'Form1-2'!F34&"/"&'Form1-2'!G34 -> Year/Month/Day | S36: =R36-R37 -> #VALUE!
D37: ='Form1-2'!E31&'Form1-2'!H31 -> Please choose onePlease choose one | H37: ='Form1-2'!E20&'Form1-2'!F20&'Form1-2'!G20 -> @ | K37: English is my 1st language | M37: ='Form1-2'!G76 -> 0 | R37: ='Form1-2'!H35&"/"&'Form1-2'!F35&"/"&'Form1-2'!G35 -> Year/Month/Day
D39: プログラム滞在予定期間
D40: FROM | E40: =R36 -> Year/Month/Day | R40: Days | S40: Absense
D41: TO | E41: =R37 -> Year/Month/Day | R41: =E41-E40 -> #VALUE! | S41: =365-R41 -> #VALUE!
B43: 研究トピック （興味があるトピック） | D43: ='Form1-2'!G39 -> 1) | R43: =D43 -> 1) | S43: ='Form1-2'!I39 -> 0
D44: ='Form1-2'!G40 -> 2) | R44: =D44 -> 2) | S44: ='Form1-2'!I39 -> 0
D45: ='Form1-2'!G41 -> 3) | R45: =D45 -> 3) | S45: ='Form1-2'!I39 -> 0
B48: 本学で実施したい活動/研究テーマなど | D48: ='Form1-2'!G37 -> 0
B50: 第一志望 | D50: 氏名 | E50: ='Form1-2'!H46 -> 0
D51: 理由 | E51: ='Form1-2'!H47 -> 0
...

Sheet Form2
A1: FORM2
A2: Pledge for the international program at Shibaura Institute of Technology
A3: To: The President, Shibaura Institute of Technology
A4: I, the undersigned, hereby pledge the following when I participate this program :
A5: 1) To certify that I have read and understood the application materials of this program at Shibaura Institute of Technology, and all the statements and information provided on the application documents are ture.
A6: 2) To obey all the rules and regulations of Shibaura Institute of Technology and devote myself to my studies in order to accomplish the aims of this program.
A7: 3) To conduct myself without infringing the laws of Japan.
A8: 4) To accept responsibility for payment of any debet I might incur in Japan.
A9: 5) To permit SIT the use of my pictures taken during this program on the SIT websites and brochures for purposes of promotion.
A10: 6)To accept any outcomes (including patent rights) made by shall during the program, belongs to SIT as contribution of SIT is indispensable for the outcomes. And outcomes should be promptly reported to SIT.
A11: 7) To keep the confidentiality of the important information and I will use the program outcome and information only for the peaceful purpose.
A12: 8) To comply with the Japanese export control legal framework.
... A20: Signature of the applicant:
G21: Date:
H22: Day / Month / Year
A23: Name of international coordinator of your university:
A25: Signature of the international coordinator:
G26: Date:
H27: Day / Month / Year

Sheet Form 3
B1: Confidential Medical checkup for the short-term exchange students | G1: Date / /
G2: Immunization Record
B3: Examination No. | C3: Name | E3: Sex | G3: Have you got the vacicinations named below?
C4: Birthday | D4: / / ( Age ) | E4: 1. Male 2. Female | G4: MMR (Measles, Mumps, Rubella) | H4: Yes | I4: No
B5: Your medical history | H5: If yes, fill in the date ↓ / / Date/ Month /Year
B6: Name of Disease | C6: Affected Area (Do you have?) | D6: Present condition | E6: Age of onset
B7: 1. Congenital heart disease | C7: No / Yes | D7: 1.Cured 2.Under Treatment 3.Untreated | G7: MR (Measles, Rubella) | H7: Yes | I7: No
B8: 2. Arrhythmia | C8: No / Yes | D8: 1.Cured 2.Under Treatment 3.Untreated | H8: If yes, fill in the date ↓ / / Date/ Month /Year
B9: 3. Cardiac noise | C9: No / Yes | D9: 1.Cured 2.Under Treatment 3.Untreated | G9: (1st dose)
B10: 4. High-blood pressure | C10: No / Yes | D10: 1.Cured 2.Under Treatment 3.Untreated | G10: MR (Measles, Rubella) | H10: Yes | I10: No
B11: 5. Thyroid disease | C11: No / Yes | D11: 1.Cured 2.Under Treatment 3.Untreated | H11: If yes, fill in the date ↓ / / Date/ Month /Year
B12: 6. Stomach / Duodenum ulcer | C12: No / Yes | D12: 1.Cured 2.Under Treatment 3.Untreated | G12: (2nd dose)
B13: 7 ulcerous colitis | C13: No / Yes | D13: 1.Cured 2.Under Treatment 3.Untreated | G13: Measles (1st dose) | H13: Yes | I13: No
B14: 8. Nephritis | C14: No / Yes | D14: 1.Cured 2.Under Treatment 3.Untreated | H14: If yes, fill in the date ↓ / / Date/ Month /Year
B15: 9. Nephrosis | C15: No / Yes | D15: 1.Cured 2.Under Treatment 3.Untreated
B16: 10. Kidney / Urinary calculus | C16: No / Yes | D16: 1.Cured 2.Under Treatment 3.Untreated | G16: Measles (2nd dose) | H16: Yes | I16: No
B17: 11. Liver disease | C17: No / Yes | D17: 1.Cured 2.Under Treatment 3.Untreated | H17: If yes, fill in the date ↓ / / Date/ Month /Year
B18: 12. Diabetes | C18: No / Yes | D18: 1.Cured 2.Under Treatment 3.Untreated
B19: 13. Spontaneous pneumothorax | C19: No / Yes | D19: 1.Cured 2.Under Treatment 3.Untreated | G19: Rubella | H19: Yes | I19: No
B20: 14. Asthma | C20: No / Yes | D20: 1.Cured 2.Under Treatment 3.Untreated | G20: (1st dose) | H20: If yes, fill in the date ↓ / / Date/ Month /Year
B21: 15. Lung tuberculosis | C21: No / Yes | D21: 1.Cured 2.Under Treatment 3.Untreated
B22: 16. Epilepsy | C22: No / Yes | D22: 1.Cured 2.Under Treatment 3.Untreated | G22: Rubella | H22: Yes | I22: No
B23: 17. Mental disease | C23: No / Yes | D23: 1.Cured 2.Under Treatment 3.Untreated | G23: (2nd dose) | H23: If yes, fill in the date ↓ / / Date/ Month /Year
B24: 18. Hyperventilation syndrome | C24: No / Yes | D24: 1.Cured 2.Under Treatment 3.Untreated
B25: 19. Food allergy | C25: No / Yes | D25: 1.Cured 2.Under Treatment 3.Untreated | G25: Mumps | H25: Yes | I25: No
B26: 20. Drug allergy | C26: No / Yes | D26: 1.Cured 2.Under Treatment 3.Untreated | H26: If yes, list the date ↓ / / Date/ Month /Year
B27: 21. Hearing disorder | C27: No / Yes | D27: 1.Cured 2.Under Treatment 3.Untreated
B28: 22. Vision disorder | C28: No / Yes | D28: 1.Cured 2.Under Treatment 3.Untreated | G28: Chicken- pox | H28: Yes | I28: No
B29: 23. Limbs disorder | C29: No / Yes | D29: 1.Cured 2.Under Treatment 3.Untreated | H29: If yes, fill in the date ↓ / / Date/ Month /Year
B30: 24. Developmental disability | C30: No / Yes | D30: 1.Cured 2.Under Treatment 3.Untreated
B31: 25. Measles | C31: No / Yes | D31: 1.Cured 2.Under Treatment 3.Untreated
B32: 26. Rubella | C32: No / Yes | D32: 1.Cured 2.Under Treatment 3.Untreated | G32: Blood type:
B33: 27. Mumps | C33: No / Yes | D33: 1.Cured 2.Under Treatment 3.Untreated | G33: O / A / B / AB | I33: ( + ) ( - )
B34: 28. Chickenpox | C34: No / Yes | D34: 1.Cured 2.Under Treatment 3.Untreated | G34: Are you currently taking any medications?
B35: 29. Others | C35: No / Yes | D35: 1.Cured 2.Under Treatment 3.Untreated | G35: If Yes, fill in the medication name ↓ Yes / No ( )
B36: → If Yes, fill in the disease name you have/had ( ) | G36: Do you have a physical disability certificate?
G37: If Yes, fill in the cirtificate name ↓ Yes / No ( )
B39: ※Please seek doctor's instruction if you declare any medical history stated above. In case you are diagnosed as possibly having an infectious desease, please take the X-ray examination if needed and fill in the result as below,by following the doctor doctor's advise
B42: X-ray examinations
